2.438400
0.000000
0.000000
-2.438400
720322.973490
5140662.283627
