2.438400
0.000000
0.000000
-2.438400
719820.092520
5154548.451814
