2.438400
0.000000
0.000000
-2.438400
631022.751796
5262997.777286
