2.438400
0.000000
0.000000
-2.438400
432852.502142
5233869.757233
