2.438400
0.000000
0.000000
-2.438400
461691.924434
5317120.638792
