2.438400
0.000000
0.000000
-2.438400
290110.505687
5223295.072065
