2.438400
0.000000
0.000000
-2.438400
564029.706285
5359018.915893
