2.438400
0.000000
0.000000
-2.438400
666245.956277
5347380.056578
