2.438400
0.000000
0.000000
-2.438400
664199.385167
5416847.030594
