2.438400
0.000000
0.000000
-2.438400
700350.048080
5432011.229271
