2.438400
0.000000
0.000000
-2.438400
622333.8928
4041407.9717
