2.438400
0.000000
0.000000
-2.438400
588716.0391
4040784.4549
