2.438400
0.000000
0.000000
-2.438400
532631.6145
4068059.7456
