2.438400
0.000000
0.000000
-2.438400
432004.1168
4054358.2485
