2.438400
0.000000
0.000000
-2.438400
432211.4664
4095917.5654
