2.43840000
0.00000000
0.00000000
-2.43840000
665626.0945
4111395.7533
