2.43840000
0.00000000
0.00000000
-2.43840000
631360.2663
4180102.8851
