2.438400
0.000000
0.000000
-2.438400
576580.2466
4137719.3882
