2.438400
0.000000
0.000000
-2.438400
388597.8663
4179563.6508
