2.43840000
0.00000000
0.00000000
-2.43840000
640668.4942
4277398.0333
