2.438400
0.000000
0.000000
-2.438400
499232.6420
4234324.2648
