2.438400
0.000000
0.000000
-2.438400
575211.8575
4290296.6146
