2.438400
0.000000
0.000000
-2.438400
444321.8736
4234499.2648
