2.438400
0.000000
0.000000
-2.438400
444463.7383
4262213.4008
