2.438400
0.000000
0.000000
-2.438400
368951.6692
4304730.8168
