2.438400
0.000000
0.000000
-2.438400
391341.4625
4387653.3778
