2.438400
0.000000
0.000000
-2.438400
584369.0316
4443021.7913
