2.43840000
0.00000000
0.00000000
-2.43840000
499222.0049
4497902.3807
