2.438400
0.000000
0.000000
-2.438400
477621.8719
4456302.8382
