2.438400
0.000000
0.000000
-2.438400
382318.6390
4471043.3415
