2.438400
0.000000
0.000000
-2.438400
340267.6320
4499616.0902
