2.438400
0.000000
0.000000
-2.438400
297209.0321
4486784.9521
