2.438400
0.000000
0.000000
-2.438400
343065.517541
3375906.661171
