2.438400
0.000000
0.000000
-2.438400
294485.010746
3348995.438985
