2.438400
0.000000
0.000000
-2.438400
295525.398637
3404420.636382
