2.438400
0.000000
0.000000
-2.438400
309006.001286
3487342.583978
