2.438400
0.000000
0.000000
-2.438400
309257.407433
3501202.834235
