2.438400
0.000000
0.000000
-2.438400
238341.726288
3516615.153375
