2.438400
0.000000
0.000000
-2.438400
748877.217301
3475033.963640
