2.438400
0.000000
0.000000
-2.438400
771934.454537
3503382.206219
