2.438400
0.000000
0.000000
-2.438400
736354.941481
3502462.122093
