2.438400
0.000000
0.000000
-2.438400
630082.694019
3486587.373624
