2.400000
0.000000
0.000000
-2.400000
334147.030000
3583968.820000
