2.438400000000
0.000000000000
0.000000000000
-2.438400000000
346579.199499213370
3639362.962841924300
