2.438400000000
0.000000000000
0.000000000000
-2.438400000000
335139.009879085530
3653486.390871785100
