2.400000
0.000000
0.000000
-2.400000
263633.690000
3585357.810000
