2.400000
0.000000
0.000000
-2.400000
252135.340000
3599431.330000
