2.400000
0.000000
0.000000
-2.400000
687272.440000
3584564.020000
