2.400000
0.000000
0.000000
-2.400000
687328.750000
3598653.780000
