2.400000
0.000000
0.000000
-2.400000
757211.120000
3613961.580000
